


BEGIN:VCALENDAR
VERSION:2.0
PRODID:-//Degro - ECPv4.6.12//NONSGML v1.0//EN
CALSCALE:GREGORIAN
METHOD:PUBLISH
X-WR-CALNAME:Degro
X-ORIGINAL-URL:https://www.degro.org
X-WR-CALDESC:Veranstaltungen für Degro
BEGIN:VEVENT
DTSTART;VALUE=DATE:20180520
DTEND;VALUE=DATE:20180524
DTSTAMP:20260421T130956
CREATED:20171109T111239Z
LAST-MODIFIED:20171109T111239Z
UID:5305-1526767200-1527112799@www.degro.org
SUMMARY:Asian and Oceanic Congress on Radiation Protection (AOCRP-5)
DESCRIPTION:Weitere Informationen finden Sie hier. \n
URL:https://www.degro.org/veranstaltung/asian-and-oceanic-congress-on-radiation-protection-aocrp-5/
LOCATION:1 Convention Centre Place\, South Wharf 3006\, Melbourne\, VIC 3006\, Australia
END:VEVENT
END:VCALENDAR